BEGIN:VCALENDAR
VERSION:2.0
PRODID:-//Chattanooga Pipe Band - ECPv6.6.3//NONSGML v1.0//EN
CALSCALE:GREGORIAN
METHOD:PUBLISH
X-WR-CALNAME:Chattanooga Pipe Band
X-ORIGINAL-URL:https://chattanoogapipeband.org
X-WR-CALDESC:Events for Chattanooga Pipe Band
REFRESH-INTERVAL;VALUE=DURATION:PT1H
X-Robots-Tag:noindex
X-PUBLISHED-TTL:PT1H
BEGIN:VTIMEZONE
TZID:UTC
BEGIN:STANDARD
TZOFFSETFROM:+0000
TZOFFSETTO:+0000
TZNAME:UTC
DTSTART:20150101T000000
END:STANDARD
END:VTIMEZONE
BEGIN:VEVENT
DTSTART;VALUE=DATE:20150516
DTEND;VALUE=DATE:20150517
DTSTAMP:20260422T071216
CREATED:20141209T230300Z
LAST-MODIFIED:20141214T191941Z
UID:74-1431734400-1431820799@chattanoogapipeband.org
SUMMARY:Smoky Mountain Scottish Festival and Games
DESCRIPTION:East Tennessee’s premier celebration of Scottish culture and history. Originally founded in 1981 as the Gatlinburg Scottish Festival and Games\, we are one of the oldest Scottish Festivals in the country. With success comes change\, and the continued growth of our event ultimately made a new venue necessary. In 2010\, we established a new home in the City of Maryville on the picturesque grounds of historic Maryville College\, home of “The Scots”. But you don’t have to be Scottish in order to enjoy this unique Festival! Our location in the heart of The Great Smoky Mountains is the perfect backdrop for you and your family to get a wee glimpse of Scotland and to discover and appreciate the rich traditions and history of the Scottish and Scots-Irish settlers of our area – extraordinary people whose courage\, determination and pioneering spirit helped forge what was to become an independent United States of America.
URL:https://chattanoogapipeband.org/event/smoky-mountain-scottish-festival-games/
LOCATION:Maryville College\, 502 E Lamar Alexander Pkwy\, Maryville\, TN\, 37804\, United States
CATEGORIES:Competition
END:VEVENT
END:VCALENDAR