BEGIN:VCALENDAR
VERSION:2.0
PRODID:-//Chattanooga Pipe Band - ECPv6.6.3//NONSGML v1.0//EN
CALSCALE:GREGORIAN
METHOD:PUBLISH
X-WR-CALNAME:Chattanooga Pipe Band
X-ORIGINAL-URL:https://chattanoogapipeband.org
X-WR-CALDESC:Events for Chattanooga Pipe Band
REFRESH-INTERVAL;VALUE=DURATION:PT1H
X-Robots-Tag:noindex
X-PUBLISHED-TTL:PT1H
BEGIN:VTIMEZONE
TZID:UTC
BEGIN:STANDARD
TZOFFSETFROM:+0000
TZOFFSETTO:+0000
TZNAME:UTC
DTSTART:20150101T000000
END:STANDARD
END:VTIMEZONE
BEGIN:VEVENT
DTSTART;VALUE=DATE:20150523
DTEND;VALUE=DATE:20150524
DTSTAMP:20260422T071129
CREATED:20141208T004756Z
LAST-MODIFIED:20141214T192354Z
UID:64-1432339200-1432425599@chattanoogapipeband.org
SUMMARY:Gallabrae Highland Games
DESCRIPTION:GALLABRAE is a mash-up of two Gallic terms\, meaning “ bold and daring” plus “beautiful highlands’.  That’s us!  The Saturday Scottish Games kept spinning off so many other events that we realized it was time for a re-branding to more accurately encompass what we have become; in addition\, our regional and national profile (not to mention our growing reputation inScotland) is expanding greatly\, and we have to race to keep up with it!
URL:https://chattanoogapipeband.org/event/gallabrae-highland-games/
LOCATION:Furman University\, 3300 Poinsett Highway\, Greenville\, SC\, 29613\, United States
CATEGORIES:Competition
END:VEVENT
END:VCALENDAR