BEGIN:VCALENDAR
VERSION:2.0
PRODID:-//Chattanooga Pipe Band - ECPv6.6.3//NONSGML v1.0//EN
CALSCALE:GREGORIAN
METHOD:PUBLISH
X-ORIGINAL-URL:https://chattanoogapipeband.org
X-WR-CALDESC:Events for Chattanooga Pipe Band
REFRESH-INTERVAL;VALUE=DURATION:PT1H
X-Robots-Tag:noindex
X-PUBLISHED-TTL:PT1H
BEGIN:VTIMEZONE
TZID:UTC
BEGIN:STANDARD
TZOFFSETFROM:+0000
TZOFFSETTO:+0000
TZNAME:UTC
DTSTART:20230101T000000
END:STANDARD
END:VTIMEZONE
BEGIN:VEVENT
DTSTART;VALUE=DATE:20231007
DTEND;VALUE=DATE:20231008
DTSTAMP:20260420T074459
CREATED:20230111T211807Z
LAST-MODIFIED:20230111T211807Z
UID:397-1696636800-1696723199@chattanoogapipeband.org
SUMMARY:Scotland County Highland Games
DESCRIPTION:
URL:https://chattanoogapipeband.org/event/scotland-county-highland-games-2/
LOCATION:North Carolina Rural Heritage Center\, 13043 X-Way Road\, Laurinburg\, NC\, 28352\, United States
END:VEVENT
BEGIN:VEVENT
DTSTART;VALUE=DATE:20231021
DTEND;VALUE=DATE:20231022
DTSTAMP:20260420T074459
CREATED:20230111T211948Z
LAST-MODIFIED:20230111T211948Z
UID:400-1697846400-1697932799@chattanoogapipeband.org
SUMMARY:Stone Mountain Highland Games and Scottish Festival
DESCRIPTION:
URL:https://chattanoogapipeband.org/event/stone-mountain-highland-games-and-scottish-festival/
LOCATION:Stone Mountain Park\, 1000 Robert E. Lee Blvd\, Stone Mountain\, GA\, 30083\, United States
END:VEVENT
BEGIN:VEVENT
DTSTART;VALUE=DATE:20231104
DTEND;VALUE=DATE:20231105
DTSTAMP:20260420T074459
CREATED:20230111T212257Z
LAST-MODIFIED:20230111T212257Z
UID:402-1699056000-1699142399@chattanoogapipeband.org
SUMMARY:Charleston Scottish Games
DESCRIPTION:
URL:https://chattanoogapipeband.org/event/charleston-scottish-games/
LOCATION:Riverfront Park\, 1045 Everglades Dr.\, North Charleston\, SC\, 29405\, United States
END:VEVENT
END:VCALENDAR